BEGIN:VCALENDAR
VERSION:2.0
CALSCALE:GREGORIAN
PRODID:-//MyApp//Calendar 1.0//EN
BEGIN:VEVENT
METHOD:PUBLISH
UID:43358@regionalniportaly.cz
DTSTAMP:20260422T111237Z
DTSTART;VALUE=DATE:20240608
DTEND;VALUE=DATE:20240609
SUMMARY:RAJHRADSKÉ KLÁŠTERNÍ otevřené sklepy 2024
DESCRIPTION:U příležitosti 15. let firmy RAJHRADSKÉ KLÁŠTERNÍ s.r.o jste srdečné zváni na odpoledne a večer plný vína\, jídla\, hudby a tance! \nRAJHRADSKÉ KLÁŠTERNÍ – OTEVŘENÉ SKLEPY \nSOBOTA  8. 6. 2024\, 12 – 22 hod.  \nareál Rajhradských klášterních sklepů – Štefánikova 69 Rajhrad \n \nna co se můžete těšit: \n- více než 70 vzorků vín k ochutnání (vína z aktuální nabídky\, vína která chystáme ale také vína která jsme nechali zrát v našem archivu)- bohaté občerstvení (prase na rožni\, klobásy na grilu\, guláš\, gyros….)- odpolední hudební program s cimbálovou muzikou- večerní hudební program s KAREL GOTT revival Morava- prohlídky sklepů s degustací raritních vín ZVÝHODNĚNÉ VSTUPNÉ JE MOŽNÉ ZAKOUPIT V PŘEDPRODEJI https://www.rajhradskeklasterni.cz/vstupenka-otevrene-sklepy/
LOCATION:Rajhrad
END:VEVENT
END:VCALENDAR