BEGIN:VCALENDAR
VERSION:2.0
CALSCALE:GREGORIAN
PRODID:-//MyApp//Calendar 1.0//EN
BEGIN:VEVENT
METHOD:PUBLISH
UID:43521@regionalniportaly.cz
DTSTAMP:20260422T224610Z
DTSTART;VALUE=DATE:20240816
DTEND;VALUE=DATE:20240817
SUMMARY:Ptáci stěhováci - Letní kino
DESCRIPTION:
LOCATION:Měnín
END:VEVENT
END:VCALENDAR