BEGIN:VCALENDAR
VERSION:2.0
CALSCALE:GREGORIAN
PRODID:-//MyApp//Calendar 1.0//EN
BEGIN:VEVENT
METHOD:PUBLISH
UID:43652@regionalniportaly.cz
DTSTAMP:20260422T205734Z
DTSTART;VALUE=DATE:20240706
DTEND;VALUE=DATE:20240707
SUMMARY:Speciální prohlídka s majitelem hradu a zámku Dolní Kounice a ochutnávkou vína ve 13 hodin
DESCRIPTION:Dvouhodinová prohlídka s majitelem hradu se začátkem ve 13 hodin\, kdy se návštěvníci podívají i do míst\, kde běžné prohlídky neprobíhají a seznámí se s nejednou zajímavostí\, která se váže k minulosti\, současnosti i budoucnosti tohoto hradu. Součástí prohlídky bude i ochutnávka vyhlášené dolnokounické Frankovky.
LOCATION:Dolní Kounice
END:VEVENT
END:VCALENDAR