BEGIN:VCALENDAR
VERSION:2.0
CALSCALE:GREGORIAN
PRODID:-//MyApp//Calendar 1.0//EN
BEGIN:VEVENT
METHOD:PUBLISH
UID:44445@regionalniportaly.cz
DTSTAMP:20260422T132430Z
DTSTART;VALUE=DATE:20240926
DTEND;VALUE=DATE:20240927
SUMMARY:Ladislav Zibura – Prázdniny v Evropě
DESCRIPTION:Ladislav Zibura – Prázdniny v EvropěCestovatelská projekce / stand-upStopování dosud nezemřelo – to jen někteří stopaři. Přijďte se zasmát na novou projekci Ladislava Zibury. Tentokrát se vydáme na 14 000 kilometrů dlouhou cestu stopem napříč Evropou.ANOTACE:Mladý spisovatel a blonďatý rošťák Ladislav Zibura se vrací na pódia s novou projekcí. Tentokrát se vydal do oblasti\, která je dostupná a krásná\, přesto o ní většina cestovatelů nemluví. Vydal se prostopovat Evropu. Přijďte se zasmát u jeho vyprávění o 14 000 kilometrů dlouhé cestě na sedadle spolujezdce. Ladislav vás ve společnosti svérázných řidičů provede čtrnácti zeměmi – z horkého předměstí Athén přes malebné albánské vesnice až za polární kruh. Odhalí vám přitom místa\, na která jste se vždycky chtěli podívat\, jen jste o nich dosud neslyšeli. A taky vám se svým nakažlivým optimismem dokáže\, že jste se narodili na tom nejrozmanitějším kontinentu světa.O AUTOROVI:Ladislav Zibura (*1992 v Českých Budějovicích) je mladý spisovatel a cestovatel. Vydává se do světa\, aby si povídal s lidmi a zjistil\, jak vypadá jejich běžný život. Kromě toho pátrá po lokálních zajímavostech a neobyčejných příbězích. O svých výpravách napsal 6 knižních bestsellerů. Kniha Prázdniny v Evropě získala cenu Zikmunda a Hanzelky pro cestopis roku. Mimo psaní Ladislav také objíždí republiku s cestovatelskými projekcemi plnými humoru a zajímavostí. Čtenáři a návštěvníci si Ziburu oblíbili právě pro jeho humor\, pozorovací talent a také rošťácký šarm.Délka vystoupení je 110 minut + přestávka 15 až 20 minut.Vystoupení je vhodné pro všechny ve věku 10 až 99 let.
LOCATION:Měnín
END:VEVENT
END:VCALENDAR