BEGIN:VCALENDAR
VERSION:2.0
CALSCALE:GREGORIAN
PRODID:-//MyApp//Calendar 1.0//EN
BEGIN:VEVENT
METHOD:PUBLISH
UID:44446@regionalniportaly.cz
DTSTAMP:20260422T150905Z
DTSTART;VALUE=DATE:20240926
DTEND;VALUE=DATE:20240927
SUMMARY:Ladislav Zibura – Pěšky mezi buddhisty a komunisty
DESCRIPTION:Ladislav Zibura – Pěšky mezi buddhisty a komunistyCestovatelská projekce / stand-upANOTACE:Excentrický poutník Ladislav Zibura se na jaře 2016 vypravil do Himálaje\, zapadlých nepálských vesnic a neprobádaných údolí čínských řek. Příběh jeho 1 500 kilometrů dlouhé pěší výpravy je svědectvím o jednoduchosti života a půvabu svobody\, u kterého se budete smát od začátku až do konce. Ať už ho zrovna zatýká policie\, trpí vysokohorskou nemocí nebo zachraňuje lidský život\, Ladislav vším proplouvá s neobyčejnou lehkostí. Nečekejte žádné popisy památek. Projekce je o Číňanech\, Nepálcích a jejich životech.O AUTOROVI:Ladislav Zibura (*1992 v Českých Budějovicích) je mladý spisovatel a cestovatel. Vydává se do světa\, aby si povídal s lidmi a zjistil\, jak vypadá jejich běžný život. Kromě toho pátrá po lokálních zajímavostech a neobyčejných příbězích. O svých výpravách napsal 6 knižních bestsellerů. Kniha Prázdniny v Evropě získala cenu Zikmunda a Hanzelky pro cestopis roku. Mimo psaní Ladislav také objíždí republiku s cestovatelskými projekcemi plnými humoru a zajímavostí. Čtenáři a návštěvníci si Ziburu oblíbili právě pro jeho humor\, pozorovací talent a také rošťácký šarm.Délka vystoupení je 110 minut + přestávka 15 až 20 minut.Vystoupení je vhodné pro všechny ve věku 10 až 99 let.
LOCATION:Měnín
END:VEVENT
END:VCALENDAR