BEGIN:VCALENDAR
VERSION:2.0
CALSCALE:GREGORIAN
PRODID:-//MyApp//Calendar 1.0//EN
BEGIN:VEVENT
METHOD:PUBLISH
UID:45328@regionalniportaly.cz
DTSTAMP:20260422T204852Z
DTSTART;VALUE=DATE:20240927
DTEND;VALUE=DATE:20240928
SUMMARY:V hlavě 2
DESCRIPTION:
LOCATION:Měnín
END:VEVENT
END:VCALENDAR