BEGIN:VCALENDAR
VERSION:2.0
CALSCALE:GREGORIAN
PRODID:-//MyApp//Calendar 1.0//EN
BEGIN:VEVENT
METHOD:PUBLISH
UID:45353@regionalniportaly.cz
DTSTAMP:20260422T145838Z
DTSTART;VALUE=DATE:20250111
DTEND;VALUE=DATE:20250112
SUMMARY:Upír Nosferatu-Martin Kyšperský/Dorota Barová
DESCRIPTION:Projekce ikonického němého filmu z roku 1922 s živým hudebním doprovodem v podání Martina E. Kyšperského a Doroty Barové.
LOCATION:Měnín
END:VEVENT
END:VCALENDAR