BEGIN:VCALENDAR
VERSION:2.0
CALSCALE:GREGORIAN
PRODID:-//MyApp//Calendar 1.0//EN
BEGIN:VEVENT
METHOD:PUBLISH
UID:46541@regionalniportaly.cz
DTSTAMP:20260422T165820Z
DTSTART;VALUE=DATE:20250118
DTEND;VALUE=DATE:20250119
SUMMARY:Sindibádova dobrodružství - divadelní představení pro děti
DESCRIPTION:Režie: Radim Koráb. Hrají: Radim Koráb\, Kristina Gargula / Krista Kašpar. Délka: 50 min.Pohádka\, u které se nezastavíte ani na konci\, protože vás děj vtáhne do stavu trvalého snění\, a to jak děti\, tak dospělé. Hrají dva herci a nespočet všelikterých loutek a jiných hýbacích zařízení\, které slouží k uvádění diváků do údivu. Tato pohádka je určena k zapomínání na všední starosti a působí stoprocentně. Odehrává se v orientálním světě a je napsána na motivy pohádek Tisíce a jedné noci.
LOCATION:Pohořelice
END:VEVENT
END:VCALENDAR