BEGIN:VCALENDAR
VERSION:2.0
CALSCALE:GREGORIAN
PRODID:-//MyApp//Calendar 1.0//EN
BEGIN:VEVENT
METHOD:PUBLISH
UID:46845@regionalniportaly.cz
DTSTAMP:20260422T064901Z
DTSTART;VALUE=DATE:20250529
DTEND;VALUE=DATE:20250601
SUMMARY:Euro Bike Fest 2025
DESCRIPTION:17. ročník&nbsp\;největšího československého motofestivalu pro motorkáře i nemotorkáře z&nbsp\;celého světa!
LOCATION:Pasohlávky
END:VEVENT
END:VCALENDAR