BEGIN:VCALENDAR
VERSION:2.0
CALSCALE:GREGORIAN
PRODID:-//MyApp//Calendar 1.0//EN
BEGIN:VEVENT
METHOD:PUBLISH
UID:47116@regionalniportaly.cz
DTSTAMP:20260422T205833Z
DTSTART;VALUE=DATE:20241117
DTEND;VALUE=DATE:20241118
SUMMARY:Ukradený betlém - Divadelní spolek Kadet
DESCRIPTION:DIVADELNÍ OCHOTNICKÝ SPOLEK KADET STAROVIČKYUVÁDÍ VÁNOČNÍ DIVADELNÍ HRUPETRA TOMŠŮUKRADENÝ BETLÉM(ŽIVÝ BETLÉM TROCHU JINAK)Živý Betlém – příběh o narození Ježíškapředváděný o Vánocích před kostelem\, kterýdoprovází tradiční starodávné koledy\, jevšem známý.V našem trochu netradičním představení sivánoční příběh vyposlechnou dva zloději\,kteří se v době vánoční rozhodli vyloupitkostel….Ve hře Petra Tomšů\, jak již je u tohoto autorazvykem\, nechybí pochopitelně humor\, ale anitrocha toho zamyšlení….Přejeme Vám příjemný zážitek a naladění sena ty nejkrásnější svátky v roce – Vánoce.Ukradený Betlém je třetí hrou v řadě současného autoraPetra Tomšů uváděnou divadelním ochotnickýmspolkem KADET.REŽIE……………………..…………….…ANNA HALUZOVÁNÁPOVĚDA …………….JAROSLAVA HABROVCOVÁINSPICIENT……………………..….LUDMILA JUŠKOVÁSVĚTLA A ZVUK…………..………………LIBOR KRŮZAVÝROBA KOSTÝMŮ……….……TÁŇA PROKOPOVÁANNA HALUZOVÁZLATKA GALEČKOVÁVÝROBA SCÉNY………………….KOLEKTIV DIVADLAPROPAGAČNÍ MATERIÁL ………LENKA KRŮZOVÁOSOBY A OBSAZENÍKNĚZ\, zároveň dirigent sboru………………..……VÁCLAV HALUZAMARUŠKA\, členka sboru…………..…MIROSLAVA JAKUBČÍKOVÁMÁRA\, zloděj zkušený recidivista………………………JOSEF PANICLUKYN\, zloděj začátečník……………………………...TOMÁŠ DOLÁKJOSEF…………………………………………………….JAROSLAV KOBLIHAMARIA………………………………………………….………..ANETA TEPLÁVOJÁK……………………………………………………………..…..VÍT KRŮZAANDĚL……………………………………………….………LENKA KRŮZOVÁPASÁČEK…………………………………………..…………MARTIN KRŮZAHERODES………………………………………………..……ZBYNĚK HÁDERKAŠPAR…………………………………….…………..……….ŠIMON VÁCHAMELICHAR………………………………….……..KAROLÍNA TIHLÁŘOVÁBALTAZAR………………………………………….……..ADAM HORČIČKAPASTÝŘ 1……………………………….……………….ANETA SKOPÁLOVÁPASTÝŘ 2…………………………………………………..JAKUB KŘIŽÁNEKTRUBKA…………………………………………………...ADAM HORČIČKAFLÉTNA………………………..ANETA SKOPÁLOVÁ\, MARTIN KRŮZASBOR……………………ZLATKA GALEČKOVÁ\, ŽELMÍRA HALUZOVÁANNA HALUZOVÁ\, VÁCLAV HALUZA
LOCATION:Měnín
END:VEVENT
END:VCALENDAR