BEGIN:VCALENDAR
VERSION:2.0
CALSCALE:GREGORIAN
PRODID:-//MyApp//Calendar 1.0//EN
BEGIN:VEVENT
METHOD:PUBLISH
UID:47420@regionalniportaly.cz
DTSTAMP:20260422T165943Z
DTSTART;VALUE=DATE:20241124
DTEND;VALUE=DATE:20241125
SUMMARY:Život k sežrání
DESCRIPTION:Raz dva\, raz dva… zkouška mikrofonu. Dvanáctiletý Ben nadevše miluje nejen muziku\, ale i jídlo a vaření. A je to na něm taky znát. Když se ale jednoho dne zabouchne do spolužačky Klárky\, rozhodne se s kily navíc zatočit. Na cestě za vysněnou postavou i Klárčiným srdcem mu pomáhají hlavně kamarádi z kapely a starostlivá maminka. Animovaný film režisérky Kristiny Dufkové natočený podle knižního bestselleru Mikaëla Olliviera s humorem za doprovodu nadupaných songů sleduje první strasti\, lásky i nástrahy dospívání.&nbsp\;Žánr: AnimovanýDélka filmu: 75 minutRežie: Kristina Dufková
LOCATION:Měnín
END:VEVENT
END:VCALENDAR