BEGIN:VCALENDAR
VERSION:2.0
CALSCALE:GREGORIAN
PRODID:-//MyApp//Calendar 1.0//EN
BEGIN:VEVENT
METHOD:PUBLISH
UID:47437@regionalniportaly.cz
DTSTAMP:20260422T132440Z
DTSTART;VALUE=DATE:20250405
DTEND;VALUE=DATE:20250406
SUMMARY:Techtle Mechtle  - Travesti revue - „Hostinec u Maruny“
DESCRIPTION:Oblíbená travesti revue Techtle Mechtle
LOCATION:Pohořelice
END:VEVENT
END:VCALENDAR