BEGIN:VCALENDAR
VERSION:2.0
CALSCALE:GREGORIAN
PRODID:-//MyApp//Calendar 1.0//EN
BEGIN:VEVENT
METHOD:PUBLISH
UID:47487@regionalniportaly.cz
DTSTAMP:20260422T165759Z
DTSTART;VALUE=DATE:20241118
DTEND;VALUE=DATE:20241119
SUMMARY:Networking coffee Rajhrad /  11 / 24 s Evčou Votápkovou
DESCRIPTION:Chcete se potkat v komorní skupině příjemně naladěných lidí?Hledáte nějaký kontakt\, ať už na kominíka\, grafika\, fotografa či pekaře? Pojďme společně rozhodit sítě a zalovit ve vodách nových kontaktů.Nebo se jen chcete inspirovat a nastartovat své podnikání?Přijďte na příjemné setkání s inspirativními lidmi\, kteří chtějí svůj život řídit sami. Již tradičně se potkáme při skvělé kávě a dalších dobrotách nové rajhradské kavárny.A ať už patříte mezi zkušené networkery nebo to bude vaše premiéra\, přijďte navázat nové kontakty\, sdílet reference\, kontakty\, doporučení\, ale i znalosti a tipy\, jak snadněji a radostněji tvořit i pracovat.Listopadový host: Evča Votápková\, žena která píše srdcem a škrtá hlavou. Pod značkou Ekopi píše texty k webům\, tvoří slogany\, blogové články\, obsahy na sociální sítě. Připraví vám i copy-audit webu s přesahem do marketingu. Její srdce tvoří i pod značkou EVoříšky - pražené (nejen) kávové oříšky.Networking začíná v 9:00\, scházet se v kavárně je možné od 8:30.Program:08:30 - 09:00 - příchod09:00 - 10:00 - představení všech účastníků networkingu10:00 - 10:40 - host networkingu10:45 - 11:30 - volný networkingV případě velkého zájmu rádi přidáme další termín. Pokud byste měli zájem o odpolední termín\, dejte nám prosím vědět na katka@kavateam.cz nebo telefonicky na 777 668 139.Těší se na vás Kačka Eichi Bilíková\, Lucie Bulová a Tomáš Hájek&nbsp\;
LOCATION:Rajhrad
END:VEVENT
END:VCALENDAR