BEGIN:VCALENDAR
VERSION:2.0
CALSCALE:GREGORIAN
PRODID:-//MyApp//Calendar 1.0//EN
BEGIN:VEVENT
METHOD:PUBLISH
UID:48580@regionalniportaly.cz
DTSTAMP:20260422T184942Z
DTSTART;VALUE=DATE:20241206
DTEND;VALUE=DATE:20241207
SUMMARY:Vandráci na ostrově lidojedů
DESCRIPTION:Tři kamarádi\, Vandráci&nbsp\;Pavel Liška\,&nbsp\;Honza Révai&nbsp\;a&nbsp\;Hynek Bernard\, vyrážejí na svých motorkách&nbsp\;vstříc druhému největšímu ostrovu světa\, na divokou Papuu Novou Guineu.
LOCATION:Měnín
END:VEVENT
END:VCALENDAR