BEGIN:VCALENDAR
VERSION:2.0
CALSCALE:GREGORIAN
PRODID:-//MyApp//Calendar 1.0//EN
BEGIN:VEVENT
METHOD:PUBLISH
UID:49296@regionalniportaly.cz
DTSTAMP:20260422T145858Z
DTSTART;VALUE=DATE:20250115
DTEND;VALUE=DATE:20250116
SUMMARY:Networking coffee Rajhrad s Year Compass
DESCRIPTION:Na našem networkingu se potkáváme v komorní skupině příjemně naladěných lidí u kávy a skvělého občerstvení od Lístek.Kafé (v ceně).&nbsp\;Networking je vlastně poznávání nových lidí a propojování se s novými kontakty. Každý má co nabídnout či poptat\, ať už hledáte tip na vánoční dárek\, kominíka\, fotografa či webaře. Nebo se můžete jen inspirovat a nastartovat své podnikání.Lednový host: Kačka Eichi Bilíková\, kávová průvodkyně a influencerka. V jejím vzdělávacím vstupu se zaměříme na ohlédnutí a bilancování nad uplynulým rokem\, ale i na plánování roku nového včetně praktické ukázky práce s celosvětově známou brožurou Year Compass. Společnou práci rozšíříme o další funkční nástroj.Přijďte na příjemné setkání s inspirativními lidmi\, kteří chtějí svůj život řídit sami. Již tradičně se potkáme při skvělé kávě a dalších dobrotách rajhradské kavárny.&nbsp\;Těší se na vás Kačka Eichi Bilíková\, Lucie Bulová a Tomáš Hájek
LOCATION:Rajhrad
END:VEVENT
END:VCALENDAR