BEGIN:VCALENDAR
VERSION:2.0
CALSCALE:GREGORIAN
PRODID:-//MyApp//Calendar 1.0//EN
BEGIN:VEVENT
METHOD:PUBLISH
UID:49419@regionalniportaly.cz
DTSTAMP:20260422T165916Z
DTSTART;VALUE=DATE:20250124
DTEND;VALUE=DATE:20250125
SUMMARY:Zlatovláska
DESCRIPTION:Když královský panoš Jiřík ochutná sousto z magického hada\, porozumí řeči zvířat. Proviní se tak ale proti příkazu svého krále\, a tak jej čeká buď trest smrti\, nebo nebezpečná cesta za Zlatovláskou…&nbsp\;Režie: Jan Těšitel&nbsp\;116 minut
LOCATION:Měnín
END:VEVENT
END:VCALENDAR