BEGIN:VCALENDAR
VERSION:2.0
CALSCALE:GREGORIAN
PRODID:-//MyApp//Calendar 1.0//EN
BEGIN:VEVENT
METHOD:PUBLISH
UID:49423@regionalniportaly.cz
DTSTAMP:20260422T150033Z
DTSTART;VALUE=DATE:20250117
DTEND;VALUE=DATE:20250118
SUMMARY:V dobrém i zlém
DESCRIPTION:Láska\, radost\, vzrušení\, vášeň\, sex. To všechno Evženovi a Anně po patnácti letech manželství dávno uteklo mezi prsty. Jejich sousedé mají opačný "problém". Tomáš a Laura jsou plní života\, krásní\, vášniví a hlasití. Jejich bujaré hrátky nahoře nejde neslyšet. Evženovi to leze na nervy\, ale v Anně se probouzí dlouho potlačovaný zájem. Pozvání na návštěvu se postupně zvrhává nečekaným směrem a odkrývá jedno tajemství za druhým. Dojde dříve na rozvod nebo nové erotické zkušenosti?
LOCATION:Měnín
END:VEVENT
END:VCALENDAR