BEGIN:VCALENDAR
VERSION:2.0
CALSCALE:GREGORIAN
PRODID:-//MyApp//Calendar 1.0//EN
BEGIN:VEVENT
METHOD:PUBLISH
UID:49867@regionalniportaly.cz
DTSTAMP:20260422T224411Z
DTSTART;VALUE=DATE:20250327
DTEND;VALUE=DATE:20250328
SUMMARY:Na každého se jednou usměje - divadelní představení
DESCRIPTION:Zbrusu nová česká postromantická komedie Martina Simandla ze současnosti\, o&nbsp\;důležitosti zachování si zbytků důstojnosti\, o&nbsp\;nikdy nekončící naději\, i&nbsp\;o možných začátcích úplně v&nbsp\;koncích.
LOCATION:Pohořelice
END:VEVENT
END:VCALENDAR