BEGIN:VCALENDAR
VERSION:2.0
CALSCALE:GREGORIAN
PRODID:-//MyApp//Calendar 1.0//EN
BEGIN:VEVENT
METHOD:PUBLISH
UID:50350@regionalniportaly.cz
DTSTAMP:20260422T150300Z
DTSTART;VALUE=DATE:20250214
DTEND;VALUE=DATE:20250215
SUMMARY:Hokus pokus Diplodokus
DESCRIPTION:
LOCATION:Měnín
END:VEVENT
END:VCALENDAR