BEGIN:VCALENDAR
VERSION:2.0
CALSCALE:GREGORIAN
PRODID:-//MyApp//Calendar 1.0//EN
BEGIN:VEVENT
METHOD:PUBLISH
UID:50352@regionalniportaly.cz
DTSTAMP:20260422T130231Z
DTSTART;VALUE=DATE:20250228
DTEND;VALUE=DATE:20250301
SUMMARY:Já\, rebelka
DESCRIPTION:
LOCATION:Měnín
END:VEVENT
END:VCALENDAR