BEGIN:VCALENDAR
VERSION:2.0
CALSCALE:GREGORIAN
PRODID:-//MyApp//Calendar 1.0//EN
BEGIN:VEVENT
METHOD:PUBLISH
UID:50514@regionalniportaly.cz
DTSTAMP:20260422T150230Z
DTSTART;VALUE=DATE:20250223
DTEND;VALUE=DATE:20250224
SUMMARY:Kino V dobrém i zlém
DESCRIPTION:Láska\, radost\, vzrušení\, vášeň... To všechno Evženovi a Anně po patnácti letech manželství dávno uteklo mezi prsty. Jejich sousedé mají opačný "problém". Tomáš a Laura jsou plní života\, krásní\, vášniví a hlasití. Pozvání na návštěvu se postupně zvrhává nečekaným směrem a odkrývá jedno tajemství za druhým. Dojde dříve na rozvod nebo nové zkušenosti.
LOCATION:Pohořelice
END:VEVENT
END:VCALENDAR