BEGIN:VCALENDAR
VERSION:2.0
CALSCALE:GREGORIAN
PRODID:-//MyApp//Calendar 1.0//EN
BEGIN:VEVENT
METHOD:PUBLISH
UID:51690@regionalniportaly.cz
DTSTAMP:20260422T150003Z
DTSTART;VALUE=DATE:20250307
DTEND;VALUE=DATE:20250308
SUMMARY:Moře na dvoře
DESCRIPTION:Ondřej Vetchý a Jiří Langmajer ve filmu\, který vás dobře naladí! Tvůrci komedie Ženy v běhu přicházejí s novým filmem o naději a lásce.
LOCATION:Měnín
END:VEVENT
END:VCALENDAR