BEGIN:VCALENDAR
VERSION:2.0
CALSCALE:GREGORIAN
PRODID:-//MyApp//Calendar 1.0//EN
BEGIN:VEVENT
METHOD:PUBLISH
UID:51786@regionalniportaly.cz
DTSTAMP:20260422T111414Z
DTSTART;VALUE=DATE:20250524
DTEND;VALUE=DATE:20250525
SUMMARY:Speciální prohlídka hradu s majitelem a ochutnávkou Dolnokounické Frankovky
DESCRIPTION:V rámci dnů soukromých hradů a zámků již tradičně zveme na dvouhodinovou prohlídku hradu s jeho majitelem\, který Vás provede hradem a prostory\, které nejsou součástí běžných prohlídek. Návštěvník se seznámí jak s bohatou historií jednoho z nejstarších klášterních hradů u nás\, ale i s již opravenými a hojně využívanými prostory pro společenské akce. Budete se moci podívat na hrad očima jeho majitele a seznámit se s jeho příběhem. Na závěr bude ve společenském sále bývalé hradní sýpky ochutnávka vyhlášené Dolnokounické Frankovky s možností jejího zakoupení.\nPOZOR PŮVODNÍ TERMÍN V PÁTEK 23.5. V 16 HODIN SE RUŠÍ SKRZE ÚČAST MAJITELE HRADU NA POSLEDNÍM ROZLOUČENÍ S RODINNOU PŘÍTELKYNÍ.
LOCATION:Dolní Kounice
END:VEVENT
END:VCALENDAR