BEGIN:VCALENDAR
VERSION:2.0
CALSCALE:GREGORIAN
PRODID:-//MyApp//Calendar 1.0//EN
BEGIN:VEVENT
METHOD:PUBLISH
UID:51992@regionalniportaly.cz
DTSTAMP:20260422T130032Z
DTSTART;VALUE=DATE:20250522
DTEND;VALUE=DATE:20250523
SUMMARY:Networking TEA Rajhrad s Petrou Majzlíkovou (Vnímej pohyb)
DESCRIPTION:Networking Tea: Inspirativní setkání (nejen) pro rodiče s dětmi&nbsp\; ☕👶Chcete vykouknout ze své ulity? Rozšířit své kontakty\, načerpat inspiraci a sdílet zkušenosti v příjemné atmosféře? Pak je Networking Tea právě pro vás!&nbsp\;Navazujeme na úspěšný koncept Networking Coffee Rajhrad a rozšiřujeme ho o setkání vhodná i pro rodiče s dětmi (primárně 0–4 roky). Vítáme ale i účastníky bez doprovodu dětí\, které zajímá téma či host.Host: Peťa Majzlíková z pohybového studia Vnímej pohyb\, které najdete v centru Rajhradu. Dozvíme se\, jak cvičení začlenit mezi běžné činnosti a zacvičit si tak i s dětmi.Networking začíná v 9:30\, scházet se je možné od 9:00\, a to přímo v pohybovém studiu\, které najdete v budově LAC\, Štefánikova 116\, v Rajhradě u BrnaProgram:09:00 - 09:30 - příchod09:30 - 10:00 - představení všech účastníků networkingu10:00 - 11:00 - péče hosta\, Peti Majzlíkové a jak si zacvičit s dětmi11:00 - 11:30 - volný networking\, rozloučeníV případě velkého zájmu rádi přidáme další termín. Pokud byste měli zájem o odpolední termín\, dejte nám prosím vědět na katka@kavateam.cz nebo telefonicky na 777 668 139.Těší se na vás Kačka Eichi Bilíková\, Lucie Bulová
LOCATION:Rajhrad
END:VEVENT
END:VCALENDAR