BEGIN:VCALENDAR
VERSION:2.0
CALSCALE:GREGORIAN
PRODID:-//MyApp//Calendar 1.0//EN
BEGIN:VEVENT
METHOD:PUBLISH
UID:52410@regionalniportaly.cz
DTSTAMP:20260422T130148Z
DTSTART;VALUE=DATE:20250426
DTEND;VALUE=DATE:20250427
SUMMARY:Nebeští jezdci
DESCRIPTION:Předpremiéra digitálně remasterované verze filmové klasiky.
LOCATION:Měnín
END:VEVENT
END:VCALENDAR