BEGIN:VCALENDAR
VERSION:2.0
CALSCALE:GREGORIAN
PRODID:-//MyApp//Calendar 1.0//EN
BEGIN:VEVENT
METHOD:PUBLISH
UID:52639@regionalniportaly.cz
DTSTAMP:20260422T092347Z
DTSTART;VALUE=DATE:20251024
DTEND;VALUE=DATE:20251025
SUMMARY:Lukáš Pavlásek - Kdo nepláče není Čech
DESCRIPTION:One man show s podtitulem Češi\, alkohol a Rock and roll je klasickou standupcomedy\, jen komik a mikrofon.Dozvíte se který národ je nejlepší na světě\, kde začíná zóna debilů\, proč pití prospívá naší civilizaci\, co pít když chcete\, aby se vám narodil Václav Klaus\, povíme si jak strávit pořádnou dovolenou\, kterou nám pokazí dámská jízda\, sestavíme si nekompromisní punkovou kapelu\, rozebereme si některé lidové písně a nakonec si všichni společně zazpíváme o tom co nám leze na nervy\, protože správnej Čech není nikdy spokojenej......
LOCATION:Mělčany
END:VEVENT
END:VCALENDAR