BEGIN:VCALENDAR
VERSION:2.0
CALSCALE:GREGORIAN
PRODID:-//MyApp//Calendar 1.0//EN
BEGIN:VEVENT
METHOD:PUBLISH
UID:53314@regionalniportaly.cz
DTSTAMP:20260422T071305Z
DTSTART;VALUE=DATE:20251219
DTEND;VALUE=DATE:20251220
SUMMARY:Techtle Mechtle  - Travesti revue - „Vánoční show“
DESCRIPTION:TECHTLE MECHTLE - VÁNOČNÍ SHOW Nejúspěšnější česká travesti show Techtle Mechtle přiváží VÁNOČNÍ SHOW do našeho města!Vánoční atmosféra\, známé vánoční melodie a tematické scénky\, to je Vánoční show travesti revue Techtle Mechtle\, která je aktuálně nejúspěšnější českou travesti skupinou. Pánové Lukáš\, Martin\, Saša a Nikolas se svou taneční posádkou Jarkem\, Sayem\, Štěpánem a Danem to pořádně rozbalí a naladí tak diváky na nadcházející Vánoce.Vánoce jsou svátky klidu - to slyšel už někdy každý z nás. Jak vypadá takový měsíc příprav před vánočními svátky v typické české rodině\, to zjistíte právě ve Vánoční show pánů z Techtle Mechtle. Chaos\, stres a panika!Show\, která se těší zájmu v kulturních domech a divadlech po celé České republice přijíždí i k nám. Přijďte se vánočně naladit\, odpočinout si od předvánočního shonu a přesvědčit se\, že chaos není jen u vás doma. Jedinečné vánoční představení\, které je ve většině měst dlouho dopředu vyprodané. Více na Facebooku: techtle mechtle revue nebo na www.techtlemechtlerevue.cz
LOCATION:Pohořelice
END:VEVENT
END:VCALENDAR