BEGIN:VCALENDAR
VERSION:2.0
CALSCALE:GREGORIAN
PRODID:-//MyApp//Calendar 1.0//EN
BEGIN:VEVENT
METHOD:PUBLISH
UID:53585@regionalniportaly.cz
DTSTAMP:20260422T111343Z
DTSTART;VALUE=DATE:20250530
DTEND;VALUE=DATE:20250531
SUMMARY:Lilo & Stitch
DESCRIPTION:
LOCATION:Měnín
END:VEVENT
END:VCALENDAR