BEGIN:VCALENDAR
VERSION:2.0
CALSCALE:GREGORIAN
PRODID:-//MyApp//Calendar 1.0//EN
BEGIN:VEVENT
METHOD:PUBLISH
UID:54303@regionalniportaly.cz
DTSTAMP:20260422T130240Z
DTSTART;VALUE=DATE:20250520
DTEND;VALUE=DATE:20250521
SUMMARY:Networking Tea v Rajhradě - J. Buchtová / Letní aromaterapie
DESCRIPTION:Networking Tea: Inspirativní setkání (nejen) pro rodiče s dětmiChcete vykouknout ze své ulity? Rozšířit své kontakty\, načerpat inspiraci a sdílet zkušenosti v příjemné atmosféře? Pak je Networking Tea právě pro vás!&nbsp\;Navazujeme na úspěšný koncept Networking Coffee Rajhrad a rozšiřujeme ho o setkání vhodná i pro rodiče s dětmi (primárně 0–4 roky). Vítáme ale i účastníky bez doprovodu dětí\, které zajímá téma či host.Host: Janča Buchtová z Lesní harmonie\, která nám po úspěšném minulém networkingu představí Aromateriapii II. Letní aromaterapie - slunění\, cestovní nevolnosti\, repelenty\, škrábance. To všechno můžete řešit v souladu s přírodou. Na dalším setkání s aromaterapeutkou Janou Buchtovou si povíme\, jak na to.&nbsp\;Vyzkoušíte vůně vhodné do auta na dlouhé cesty. Zaměříme se na otravný hmyz a přírodní odpuzovače. Domů si odnesete malý roll-on 5ml\, který si vyrobíte sami podle svých potřeb (v ceně).&nbsp\;Networking začíná v 9:30\, scházet se je možné od 9:00\, a to přímo v kavárně Slunečnice\, kterou najdete v areálu Oblastní charity Rajhrad.Program:09:00 - 09:30 - příchod09:30 - 10:00 - představení všech účastníků networkingu10:00 - 11:00 - workshop s Jančou Buchtovou - aromaterapie do kapsy11:00 - 11:30 - volný networking\, rozloučeníV případě velkého zájmu rádi přidáme další termín. Pokud byste měli zájem o odpolední termín\, dejte nám prosím vědět na katka@kavateam.cz nebo telefonicky na 777 668 139.Těší se na vás Kačka Eichi Bilíková\, Lucie Bulová
LOCATION:Rajhrad
END:VEVENT
END:VCALENDAR