BEGIN:VCALENDAR
VERSION:2.0
CALSCALE:GREGORIAN
PRODID:-//MyApp//Calendar 1.0//EN
BEGIN:VEVENT
METHOD:PUBLISH
UID:58317@regionalniportaly.cz
DTSTAMP:20260422T111424Z
DTSTART;VALUE=DATE:20251018
DTEND;VALUE=DATE:20251019
SUMMARY:Renovace
DESCRIPTION:Filmový klub se opět vrací do našeho kina. V 19:00 promítání litevského filmu Renovace\, který měl premiéru na Filmovém festivalu v Karlových Varech a po skončení hustopečská kapela Skrznaskrz.
LOCATION:Měnín
END:VEVENT
END:VCALENDAR