BEGIN:VCALENDAR
VERSION:2.0
CALSCALE:GREGORIAN
PRODID:-//MyApp//Calendar 1.0//EN
BEGIN:VEVENT
METHOD:PUBLISH
UID:59221@regionalniportaly.cz
DTSTAMP:20260422T072508Z
DTSTART;VALUE=DATE:20251201
DTEND;VALUE=DATE:20251202
SUMMARY:Mrazík - divadelní představení
DESCRIPTION:
LOCATION:Pohořelice
END:VEVENT
END:VCALENDAR