BEGIN:VCALENDAR
VERSION:2.0
CALSCALE:GREGORIAN
PRODID:-//MyApp//Calendar 1.0//EN
BEGIN:VEVENT
METHOD:PUBLISH
UID:59394@regionalniportaly.cz
DTSTAMP:20260422T071332Z
DTSTART;VALUE=DATE:20251128
DTEND;VALUE=DATE:20251129
SUMMARY:Zootropolis: Město zvířat 2
DESCRIPTION:
LOCATION:Měnín
END:VEVENT
END:VCALENDAR