BEGIN:VCALENDAR
VERSION:2.0
CALSCALE:GREGORIAN
PRODID:-//MyApp//Calendar 1.0//EN
BEGIN:VEVENT
METHOD:PUBLISH
UID:59395@regionalniportaly.cz
DTSTAMP:20260422T093853Z
DTSTART;VALUE=DATE:20251121
DTEND;VALUE=DATE:20251122
SUMMARY:Stezka života
DESCRIPTION:
LOCATION:Měnín
END:VEVENT
END:VCALENDAR