BEGIN:VCALENDAR
VERSION:2.0
CALSCALE:GREGORIAN
PRODID:-//MyApp//Calendar 1.0//EN
BEGIN:VEVENT
METHOD:PUBLISH
UID:59399@regionalniportaly.cz
DTSTAMP:20260422T111609Z
DTSTART;VALUE=DATE:20251205
DTEND;VALUE=DATE:20251206
SUMMARY:Na horách
DESCRIPTION:
LOCATION:Měnín
END:VEVENT
END:VCALENDAR