BEGIN:VCALENDAR
VERSION:2.0
CALSCALE:GREGORIAN
PRODID:-//MyApp//Calendar 1.0//EN
BEGIN:VEVENT
METHOD:PUBLISH
UID:59405@regionalniportaly.cz
DTSTAMP:20260422T111525Z
DTSTART;VALUE=DATE:20251107
DTEND;VALUE=DATE:20251108
SUMMARY:Gábinin kouzelný domek ve filmu
DESCRIPTION:
LOCATION:Měnín
END:VEVENT
END:VCALENDAR