BEGIN:VCALENDAR
VERSION:2.0
CALSCALE:GREGORIAN
PRODID:-//MyApp//Calendar 1.0//EN
BEGIN:VEVENT
METHOD:PUBLISH
UID:59408@regionalniportaly.cz
DTSTAMP:20260422T072529Z
DTSTART;VALUE=DATE:20251206
DTEND;VALUE=DATE:20251207
SUMMARY:Adventní koncert Castello in Aria
DESCRIPTION:Vstupte do času\, kdy se svět ztiší v očekávání\, a nechte se obklopit půvabem barokní hudby\, která promlouvá k srdci i duši… Ansámbl Castello in Aria přináší letos do Rajhradu program Ave Rosa in Jericho\, v němž uslyšíte skladby určené právě pro adventní dobu v provedení na kopie dobových hudebních nástrojů. Mezi autory těchto skladeb patří Václav Karel Holan Rovenský\, Adam Václav Michna z Otradovic\, Johann Sebastian Bach\, Heinrich Schütz\, Enrico Radesca di Foggia\, Andrea Falconieri\, Giovanni Paolo Cima\, Maurizio Cazzati a Giuseppe Scarani..Podrobnosti o programu a účinkujících:barokoplus.cz/aktualne/castello-2025/
LOCATION:Rajhrad
END:VEVENT
END:VCALENDAR