BEGIN:VCALENDAR
VERSION:2.0
CALSCALE:GREGORIAN
PRODID:-//MyApp//Calendar 1.0//EN
BEGIN:VEVENT
METHOD:PUBLISH
UID:59711@regionalniportaly.cz
DTSTAMP:20260422T052542Z
DTSTART;VALUE=DATE:20251217
DTEND;VALUE=DATE:20251218
SUMMARY:Networking Coffee & Tea Rajhrad/ Slunovratové rozjímání
DESCRIPTION:Networking coffee &amp\; tea jsou inspirativní setkání pro dospělé i dospělé s dětmi s myšlenkou síťování\, propojování a navazování nových kontaktů a vazeb\, které mohou podpořit vaše podnikání\, osbní rozvoj i běžné potřeby.Téma:&nbsp\;Slunovratové rozjímání na téma manifestace a práce s našim energetickým tělem.&nbsp\;Host: Milada HanáčkováBonusový host: Martina Hoffmannová s workshopem tvorby manifestační svíčkyNa avizované téma Year compass\, kterým provede Kačka Eichi Bilíková\, se můžete těšit v únoru 2026.Networking začíná JIŽ V 9:00\, scházet se je možné od 8:30.Sejdeme se v sále kavárny Slunečnice.Program:09:00 - 09:15 - praktický úvod k lití svíček\, Martina Hoffmannová09:15 - 10:00 - představení všech účastníků networkingu10:00 - 11:00 - host Milada Hanáčková11:00 - 12:00 - volný networking\, prostor pro sdílení&nbsp\;Vánoční poukázky či ukázky své práce neváhejte vzít s sebou.Těší se na vás Kačka Eichi Bilíková\, Lucie Bulová
LOCATION:Rajhrad
END:VEVENT
END:VCALENDAR