BEGIN:VCALENDAR
VERSION:2.0
CALSCALE:GREGORIAN
PRODID:-//MyApp//Calendar 1.0//EN
BEGIN:VEVENT
METHOD:PUBLISH
UID:59803@regionalniportaly.cz
DTSTAMP:20260422T052454Z
DTSTART;VALUE=DATE:20251228
DTEND;VALUE=DATE:20251229
SUMMARY:Vánoční koncert v rajhradském klášteře
DESCRIPTION:\nneděle 28. 12. 2025 v 17:00\nKapitulní kaple Benediktinského opatství v Rajhradě\, Klášter 1\nDej Nám Akord – DNA Brno\, umělecký vedoucí Václav Brázda\n\nPřijďte se zaposlouchat do jemných harmonií\, ve kterých se prolíná tradice Vánoc od baroka po současnost s osobitým hudebním vyjádřením. Skupina Dej Nám Akord – DNA Brno je vokálním (a cappella) souborem\, který přináší do Rajhradu kouzlo čistého lidského hlasu. V programu oslavujícím radostnou zvěst Vánoc zazní barokní písně Adama Václava Michny z Otradovic\, autorské skladby Tomáše Přikryla i tradiční lidové koledy\, jejichž melodie spojují dávné dny s přítomností.
LOCATION:Rajhrad
END:VEVENT
END:VCALENDAR