BEGIN:VCALENDAR
VERSION:2.0
CALSCALE:GREGORIAN
PRODID:-//MyApp//Calendar 1.0//EN
BEGIN:VEVENT
METHOD:PUBLISH
UID:60847@regionalniportaly.cz
DTSTAMP:20260422T071342Z
DTSTART;VALUE=DATE:20251212
DTEND;VALUE=DATE:20251213
SUMMARY:Neporazitelní
DESCRIPTION:
LOCATION:Měnín
END:VEVENT
END:VCALENDAR