BEGIN:VCALENDAR
VERSION:2.0
CALSCALE:GREGORIAN
PRODID:-//MyApp//Calendar 1.0//EN
BEGIN:VEVENT
METHOD:PUBLISH
UID:61306@regionalniportaly.cz
DTSTAMP:20260422T094527Z
DTSTART;VALUE=DATE:20260116
DTEND;VALUE=DATE:20260117
SUMMARY:SpongeBob: Pirátské dobrodružství
DESCRIPTION:
LOCATION:Měnín
END:VEVENT
END:VCALENDAR