BEGIN:VCALENDAR
VERSION:2.0
CALSCALE:GREGORIAN
PRODID:-//MyApp//Calendar 1.0//EN
BEGIN:VEVENT
METHOD:PUBLISH
UID:61880@regionalniportaly.cz
DTSTAMP:20260422T052208Z
DTSTART;VALUE=DATE:20260114
DTEND;VALUE=DATE:20260115
SUMMARY:Networking Coffee & Tea-o třídění a darování s H.Továrkovou
DESCRIPTION:První networking v roce 2026: Tipy proti zahlcenosti&nbsp\;Pojďme si v novém roce udělat kolem sebe prostor!&nbsp\;První letošní setkání nabídne téma TŘÍDĚNÍ A DAROVÁNÍ\, ale i SWAPU (výměny) jako receptu proti zahlcenosti.Součástí akce bude také swap nechtěných či nepotřebných dárků. Přineste s sebou 1 až 3 kousky\, které u vás nevyužijete\, ale někomu jinému udělají radost.Kde se potkáme? Tentokrát nás poprvé hostí Petra Majzlíková ve svém studiu Vnímej pohyb. Adresa je známá: budova LAC\, Štefánikova 116\, Rajhrad. Studio najdete hned v přízemí – za vstupem se dejte doprava a po schodech dolů.&nbsp\;Vezměte si s sebou prosím papučky nebo teplé ponožky\, v prostorách se pohybujeme bez bot.Děti vítány: Díky dobrému zázemí jsou na tomto networkingu vítány i děti (věk 0–3 let\, nebo dle domluvy).&nbsp\;Na koho se můžete těšit? Znáte pohádku o tom\, jak dědeček měnil\, až vyměnil? Tu vám poví Kačka Eichi Bilíková. Hlavním hostem však bude Helena Tovarková\, ředitelka Nadace Veronica&nbsp\;Posdílí s námi informace o nadačních obchůdcích.Poradí\, co má smysl darovat dál.V případě zájmu se můžeme domluvit i na společné sbírce věcí právě pro tyto obchůdky.Při dobré kávě a bohatém občerstvení: Networking začíná v 9:00\, scházet se budeme už od 8:45. Přijďte na příjemné setkání s inspirativními lidmi\, kteří chtějí svůj život řídit sami.Program:08:45 – 09:00 Příchod a naladění se09:00 – 10:00 Představení všech účastníků (kolečko)10:00 – 11:00 Host: Helena Tovarková\, Nadace Veronica11:00 – 11:30 Volný networking a swapováníAť už patříte mezi zkušené networkery\, nebo to bude vaše premiéra\, přijďte navázat nové vztahy\, sdílet reference a doporučení\, užít si povánoční swap a společně úspěšně zahájit rok 2026.Vstupenky: Zakoupíte u Kačka Eichi Bilíková nebo přes SMS Ticket (viz odkaz v sekci Vstupenky). V ceně je zahrnuto bohaté pohoštění včetně kávy a čaje.Těší se na vás Kačka Eichi Bilíková a Lucie Bulová
LOCATION:Rajhrad
END:VEVENT
END:VCALENDAR