BEGIN:VCALENDAR
VERSION:2.0
CALSCALE:GREGORIAN
PRODID:-//MyApp//Calendar 1.0//EN
BEGIN:VEVENT
METHOD:PUBLISH
UID:62003@regionalniportaly.cz
DTSTAMP:20260422T051952Z
DTSTART;VALUE=DATE:20260128
DTEND;VALUE=DATE:20260129
SUMMARY:Networking Coffee & Tea - Magdaléna Krejčí
DESCRIPTION:Druhý networking v roce 2026 navštíví jako host Magdaléna Krejčí\, brand designerka\, grafická designerka a ilustrátorka (www.magdalenakrejci.cz). Protože toho má Magdaléna mnoho\, co nabídnout\, budeme o tématu hlasovat zde ve skupině\, ať si vyberete téma\, které vás nejvíce láká.&nbsp\;Networking začíná v 9:00\, scházet se je možné od 8:45. Přijďte na příjemné setkání s inspirativními lidmi\, kteří chtějí svůj život řídit sami. Při dobré kávě a bohatém občerstvení.&nbsp\;Program:08:45 - 09:00 - příchod09:00 - 10:00 - představení všech účastníků networkingu10:00 - 11:00 - host networkingu Magdaléna Krejčí11:00 - 11:30 - volný networking&nbsp\;A ať už patříte mezi zkušené networkery nebo to bude vaše premiéra\, přijďte navázat nové kontakty\, sdílet reference\, kontakty\, doporučení\, ale i se dozvědět něco více od našeho hosta..&nbsp\;Vstupenky zakoupíte u Kačka Eichi Bilíková nebo na SMS Ticketu - viz "vstupenky".&nbsp\;Těší se na vás Kačka Eichi Bilíková\, Lucie Bulová
LOCATION:Rajhrad
END:VEVENT
END:VCALENDAR