BEGIN:VCALENDAR
VERSION:2.0
CALSCALE:GREGORIAN
PRODID:-//MyApp//Calendar 1.0//EN
BEGIN:VEVENT
METHOD:PUBLISH
UID:62077@regionalniportaly.cz
DTSTAMP:20260422T093934Z
DTSTART;VALUE=DATE:20260211
DTEND;VALUE=DATE:20260212
SUMMARY:Networking Coffee & Tea s Helenou Hájkovou
DESCRIPTION:LinkedIn novinkyKde se potkáme? Hostí nás Petra Majzlíková ve svém studiu Vnímej pohyb. Adresa je známá: budova LAC\, Štefánikova 116\, Rajhrad. Studio najdete hned v přízemí – za vstupem se dejte doprava a po schodech dolů.&nbsp\;Vezměte si s sebou prosím papučky nebo teplé ponožky\, v prostorách se pohybujeme bez bot.Děti vítány: Díky dobrému zázemí jsou na tomto networkingu vítány i děti (věk 0–3 let\, nebo dle domluvy).&nbsp\;Na koho se můžete těšit? Helena HájkováPosdílí s námi informace o změnách a novinkách na&nbsp\;LinkedInu. Prostor bude i pro dotazy a diskuzi.Při dobré kávě a bohatém občerstvení: Networking začíná v 9:00\, scházet se budeme už od 8:45. Přijďte na příjemné setkání s inspirativními lidmi\, kteří chtějí svůj život řídit sami.Program:08:45 – 09:00 Příchod a naladění se09:00 – 10:00 Představení všech účastníků (kolečko)10:00 – 11:00 Host: Helena Hájková\, LinkedIn novinky11:00 – 11:30 Volný networking a swapováníAť už patříte mezi zkušené networkery\, nebo to bude vaše premiéra\, přijďte navázat nové vztahy\, sdílet reference a doporučení.Vstupenky: Zakoupíte zde přes SMS ticketTěší se na vás Kačka Eichi Bilíková a Lucie Bulová&nbsp\;
LOCATION:Rajhrad
END:VEVENT
END:VCALENDAR