BEGIN:VCALENDAR
VERSION:2.0
CALSCALE:GREGORIAN
PRODID:-//MyApp//Calendar 1.0//EN
BEGIN:VEVENT
METHOD:PUBLISH
UID:62408@regionalniportaly.cz
DTSTAMP:20260422T052326Z
DTSTART;VALUE=DATE:20260228
DTEND;VALUE=DATE:20260301
SUMMARY:Promítání kina - Mazlíčci v průšvihu
DESCRIPTION:Přidej se k dobrodružství\, které sviští na plné obrátky! Je čas ukázat drápky! Když se ve vlaku rozezní nouzový poplach\, všichni cestující jsou evakuování. Tedy\, vlastně ne tak docela všichni… Na palubě nedobrovolně zůstává parta velmi zvláštních pasažérů – chlupatí i opeření mazlíčci! A co je horší\, rychlík se nečekaně dává do pohybu a stále nabírá rychlost. Brzy se ukáže\, že za únosem vlaku stojí zatrpklý a mstivý jezevec Hans\, který má ďábelský plán. Hrozí katastrofa\, ale naděje ještě žije! Do záchranné akce se totiž pouští Sokol\, odvážný a drzý mýval\, který svůj kožich nehodlá ztratit bez boje. A rozhodně na to nebude sám. Odhodlanou partu tvoří i policejní pes Rex\, hyperaktivní čivava Randy\, kočička Minda\, která je celoživotním milovníkem železniční techniky\, aristokratický chrt Viktor\, mrzutý kocour Kroketa či papoušci Coco a Judy. Mazaný a vynalézavý Sokol je připraven udělat pro záchranu svých přátel cokoliv!&nbsp\;
LOCATION:Pohořelice
END:VEVENT
END:VCALENDAR