BEGIN:VCALENDAR
VERSION:2.0
CALSCALE:GREGORIAN
PRODID:-//MyApp//Calendar 1.0//EN
BEGIN:VEVENT
METHOD:PUBLISH
UID:62438@regionalniportaly.cz
DTSTAMP:20260422T052444Z
DTSTART;VALUE=DATE:20260301
DTEND;VALUE=DATE:20260302
SUMMARY:Král králů
DESCRIPTION:
LOCATION:Měnín
END:VEVENT
END:VCALENDAR