BEGIN:VCALENDAR
VERSION:2.0
CALSCALE:GREGORIAN
PRODID:-//MyApp//Calendar 1.0//EN
BEGIN:VEVENT
METHOD:PUBLISH
UID:63109@regionalniportaly.cz
DTSTAMP:20260425T123501Z
DTSTART;VALUE=DATE:20260502
DTEND;VALUE=DATE:20260503
SUMMARY:Jubilejní komentovaná prohlídka Šibeničního vrchu
DESCRIPTION:Komentovaná prohlídka Šibeničního vrchu\nZámek Slavkov – Austerlitz zve veřejnost na jedinečnou komentovanou procházku na Popravčí (Šibeniční) vrch\, která se uskuteční v sobotu 2. května 2026 od 14:00.\nAkce je zároveň jubilejní procházkou naučnou stezkou útrpného práva a připomínkou desátého výročí od odkrytí a zřízení slavkovské šibenice na Popravčím vrchu u Křenovic.\nPrůvodcem výpravy bude pan Oldřich Bartošek\, umělecký kovář a autor naučné stezky na Popravčí vrch\, který účastníky seznámí s historií práva útrpného na Slavkovsku a přiblíží temné kapitoly regionálních dějin.\nSraz účastníků je v Křenovicích u historické křtitelnice pod kostelem (naproti cukrárně)\, odkud se společně vyrazí na přibližně dvouhodinovou procházku směrem na Šibeniční vrch. Během cesty budou představeny historické souvislosti místa i události\, které se zde v minulosti odehrávaly.\nVzhledem k tomu\, že se akce koná v terénu a v otevřené krajině\, doporučujeme vhodné oblečení a pevnou obuv.\nVstupenky je nutné mít s sebou\, k dispozici jsou online na ZDE - Předprodej nebo v Turistickém informačním centru ve Slavkově u Brna.\nTěšíme se na vaši účast na této netradiční a historicky zajímavé vycházce.
LOCATION:Slavkov u Brna
END:VEVENT
END:VCALENDAR