BEGIN:VCALENDAR
VERSION:2.0
CALSCALE:GREGORIAN
PRODID:-//MyApp//Calendar 1.0//EN
BEGIN:VEVENT
METHOD:PUBLISH
UID:63115@regionalniportaly.cz
DTSTAMP:20260425T160334Z
DTSTART;VALUE=DATE:20260516
DTEND;VALUE=DATE:20260517
SUMMARY:Májový jarmark
DESCRIPTION:Zveme Vás na tradiční  Májový jarmark v zámeckém parku\nZámek Slavkov – Austerlitz vás srdečně zve na tradiční Májový jarmark\, který se uskuteční v sobotu 16. května 2026 od 9:00 do 16:00 v kouzelném prostředí zámeckého parku.\nLetošní jarmark bude zaměřen především na módu\, módní doplňky\, ruční výrobu a tradiční řemesla. Návštěvníci se mohou těšit na pestrou nabídku originálních výrobků\, inspirativní setkání s tvůrci i příjemnou jarní atmosféru.\nSoučástí programu budou také dvě módní přehlídky\, které proběhnou v 11:00 a ve 14:00\, a představí aktuální trendy i šikovnost lokálních návrhářů a tvůrců.\nPřijďte si užít den plný jara\, inspirace a krásných věcí. Těšíme se na vás v zámeckém parku ve Slavkově u Brna. Vstup je volný. \n  STÁNKOVÝ PRODEJ: KAPACITA NAPLNĚNA!!
LOCATION:Slavkov u Brna
END:VEVENT
END:VCALENDAR