BEGIN:VCALENDAR
VERSION:2.0
CALSCALE:GREGORIAN
PRODID:-//MyApp//Calendar 1.0//EN
BEGIN:VEVENT
METHOD:PUBLISH
UID:63244@regionalniportaly.cz
DTSTAMP:20260422T165424Z
DTSTART;VALUE=DATE:20260310
DTEND;VALUE=DATE:20260311
SUMMARY:Chumelenice LIVE
DESCRIPTION:Tlachání dvou mangalic naživo.Vítáni jsou mývalové na piku\, švédští architekti i Patrik Nacher. Tomio ne.&nbsp\;Pojďte s námi budovat malou totalitku!&nbsp\;Vstupenky jsou výborný dárek. Nebo pomsta.
LOCATION:Brno
END:VEVENT
END:VCALENDAR