BEGIN:VCALENDAR
VERSION:2.0
CALSCALE:GREGORIAN
PRODID:-//MyApp//Calendar 1.0//EN
BEGIN:VEVENT
METHOD:PUBLISH
UID:63782@regionalniportaly.cz
DTSTAMP:20260420T062942Z
DTSTART;VALUE=DATE:20260425
DTEND;VALUE=DATE:20260426
SUMMARY:Detektivní večer se zážitkovou večeří
DESCRIPTION:Netradiční a ojedinělý projekt v ČR.Kulturní zážitek prolnutý zážitkem gastronomickým.Přivítáme Vás welcome drinkem. 4 chodové menu se prolíná s&nbsp\;hereckými vstupy. V&nbsp\;mezičase dalšího chodu hosté sledují divadelní příběh s&nbsp\;detektivní zápletkou a dedukují v&nbsp\;rámci stolu\, kdo a proč je viníkem. Ve čtvrtém vstupu odhalíme viníka a vyhlásíme vítězný stůl\, který získá stylovou cenu. Příběh je kostýmovaný a zasazený do začátku minulého století.
LOCATION:Brod nad Dyjí
END:VEVENT
END:VCALENDAR