BEGIN:VCALENDAR
VERSION:2.0
CALSCALE:GREGORIAN
PRODID:-//MyApp//Calendar 1.0//EN
BEGIN:VEVENT
METHOD:PUBLISH
UID:64028@regionalniportaly.cz
DTSTAMP:20260422T010957Z
DTSTART;VALUE=DATE:20260417
DTEND;VALUE=DATE:20260418
SUMMARY:Říkají mi Lars
DESCRIPTION:
LOCATION:Měnín
END:VEVENT
END:VCALENDAR